BEGIN:VCALENDAR
VERSION:2.0
PRODID:-//Friends of the Big Bear Alpine Zoo - ECPv6.15.20//NONSGML v1.0//EN
CALSCALE:GREGORIAN
METHOD:PUBLISH
X-ORIGINAL-URL:https://friendsofthebigbearalpinezoo.org
X-WR-CALDESC:Events for Friends of the Big Bear Alpine Zoo
REFRESH-INTERVAL;VALUE=DURATION:PT1H
X-Robots-Tag:noindex
X-PUBLISHED-TTL:PT1H
BEGIN:VTIMEZONE
TZID:America/Los_Angeles
BEGIN:DAYLIGHT
TZOFFSETFROM:-0800
TZOFFSETTO:-0700
TZNAME:PDT
DTSTART:20240310T100000
END:DAYLIGHT
BEGIN:STANDARD
TZOFFSETFROM:-0700
TZOFFSETTO:-0800
TZNAME:PST
DTSTART:20241103T090000
END:STANDARD
BEGIN:DAYLIGHT
TZOFFSETFROM:-0800
TZOFFSETTO:-0700
TZNAME:PDT
DTSTART:20250309T100000
END:DAYLIGHT
BEGIN:STANDARD
TZOFFSETFROM:-0700
TZOFFSETTO:-0800
TZNAME:PST
DTSTART:20251102T090000
END:STANDARD
BEGIN:DAYLIGHT
TZOFFSETFROM:-0800
TZOFFSETTO:-0700
TZNAME:PDT
DTSTART:20260308T100000
END:DAYLIGHT
BEGIN:STANDARD
TZOFFSETFROM:-0700
TZOFFSETTO:-0800
TZNAME:PST
DTSTART:20261101T090000
END:STANDARD
END:VTIMEZONE
BEGIN:VEVENT
DTSTART;TZID=America/Los_Angeles:20251004T170000
DTEND;TZID=America/Los_Angeles:20251004T183000
DTSTAMP:20260419T102437
CREATED:20250127T130003Z
LAST-MODIFIED:20250127T130119Z
UID:8401-1759597200-1759602600@friendsofthebigbearalpinezoo.org
SUMMARY:Twilight Safari Tours
DESCRIPTION:Must Pre-Register\nwww.BigBearZoo.Org\n5:00pm\, 5:30pm\, 6:00pm\, 6:30pm
URL:https://friendsofthebigbearalpinezoo.org/event/twilight-safari-tours-october-4-2025/
END:VEVENT
END:VCALENDAR